BEGIN:VCALENDAR
VERSION:2.0
PRODID:Events Booking
BEGIN:VEVENT
UID:69e5f26f8201b
SUMMARY:ACAVe Travel Market BTravel Barcelona
DESCRIPTION:
DTSTART:20250328T120000Z
DTEND:20250328T150000Z
DTSTAMP:20240104T095737Z
ORGANIZER;CN=ACAVe:MAILTO:info@acave.travel
END:VEVENT
END:VCALENDAR