BEGIN:VCALENDAR
VERSION:2.0
PRODID:Events Booking
BEGIN:VEVENT
UID:69e5f0d8c215f
SUMMARY:ECTAA Summit 
DESCRIPTION:
DTSTART:20250219T080000Z
DTEND:20250219T160000Z
DTSTAMP:20250213T144446Z
ORGANIZER;CN=ACAVe:MAILTO:info@acave.travel
END:VEVENT
END:VCALENDAR