BEGIN:VCALENDAR
VERSION:2.0
PRODID:Events Booking
BEGIN:VEVENT
UID:69e5f1001d8d0
SUMMARY:Viaje ACAVe Mauricio
DESCRIPTION:Guia Mauricio&nbsp\;
 Folleto Mauricio 
 Mapa
 &nbsp\;
DTSTART:20240608T131500Z
DTEND:20240614T205000Z
DTSTAMP:20240507T163854Z
ORGANIZER;CN=ACAVe:MAILTO:info@acave.travel
END:VEVENT
END:VCALENDAR