BEGIN:VCALENDAR
VERSION:2.0
PRODID:Events Booking
BEGIN:VEVENT
UID:69e5f217de4ce
SUMMARY:Nit del Soci ACAVe 2026
DESCRIPTION:Pendiente de confirmación
 Pendent de confirmació&nbsp\;
DTSTART:20260702T160000Z
DTEND:20260702T210000Z
DTSTAMP:20240104T101131Z
ORGANIZER;CN=ACAVe:MAILTO:info@acave.travel
END:VEVENT
END:VCALENDAR