BEGIN:VCALENDAR
VERSION:2.0
PRODID:Events Booking
BEGIN:VEVENT
UID:69e5f22ca6f77
SUMMARY:Viaje de ACAVe a Albània
DESCRIPTION:
DTSTART:20231007T040000Z
DTEND:20231014T130000Z
DTSTAMP:20231005T140033Z
ORGANIZER;CN=ACAVe:MAILTO:info@acave.travel
END:VEVENT
END:VCALENDAR