BEGIN:VCALENDAR
VERSION:2.0
PRODID:Events Booking
BEGIN:VEVENT
UID:69e5dd7a3578d
SUMMARY:Webinar BGS BERONI 
DESCRIPTION:
 &nbsp\;
DTSTART:20220223T090000Z
DTEND:20220223T100000Z
DTSTAMP:20220125T094024Z
ORGANIZER;CN=ACAVe:MAILTO:info@acave.travel
END:VEVENT
END:VCALENDAR